Workbook

Sheet РУПУиА
A1: План учебного процесса
A2: Индекс | B2: Наименование модулей и видов учебной деятельности | C2: Наименование дисциплин | D2: Кредит саны / Количество кредитов | E2: Форма контроля | H2: обьем учебного времени
E3: по семестрам | H3: Всего | I3: в том числе | M3: Распределение по курсам и семестрам
E4: Экзамен | F4: дифференцированный зачет | G4: конртольные работы | I4: теоретические | J4: лаборатонро-практические | K4: Курсовой проект /работа | L4: Производственное обучение/профессиональная практика | M4: 1 курс | Q4: 2 курс | U4: 3 курс
M5: 1 сем. | O5: 2 сем. | Q5: 3 сем. | S5: 4 сем. | U5: 5 сем. | W5: 6 сем.
N6: 20 | P6: 16 | R6: 6 | T6: 8 | V6: 8 | X6: 6
A7: 1 | B7: 2 | C7: 3 | E7: 4 | F7: 5 | H7: 8 | I7: 9 | K7: 10 | L7: 11 | M7: 12 | N7: 13 | O7: 14 | P7: 15 | Q7: 16 | R7: 17 | S7: 18 | T7: 19 | U7: 20 | V7: 21 | W7: 22 | X7: 23
A8: ООД00 | B8: Модуль "Общеобразовательные дисциплины" | D8: =D10+D11+D12+D13+D14+D15+D16+D17+D18+D19+D22+D23+D25+D26 -> 57 | E8: =E10+E11+E12+E13+E14+E15+E16+E17+E18+E19+E22+E23+E25+E26 -> 10 | F8: =F10+F11+F12+F13+F14+F15+F16+F17+F18+F19+F22+F23+F25+F26 -> 0 | G8: =G10+G11+G12+G13+G14+G15+G16+G17+G18+G19+G22+G23+G25+G26 -> 0 | H8: =H10+H11+H12+H13+H14+H15+H16+H17+H18+H19+H22+H23+H25+H26 -> 1368 | I8: =I10+I11+I12+I13+I14+I15+I16+I17+I18+I19+I22+I23+I25+I26 -> 0 | J8: =J10+J11+J12+J13+J14+J15+J16+J17+J18+J19+J22+J23+J25+J26 -> 0 | K8: =K10+K11+K12+K13+K14+K15+K16+K17+K18+K19+K22+K23+K25+K26 -> 0 | ... X8: =X10+X11+X12+X13+X14+X15+X16+X17+X18+X19+X22+X23+X25+X26 -> 0
B9: Обьязательные предметы
A10: ООД01 | C10: Русский язык | D10: 4 | E10: 2 | H10: =N10+P10+R10 -> 96 | M10: 4 | N10: 80 | O10: 1 | P10: 16
A11: ООД02 | C11: Русская литература | D11: 4 | H11: =N11+P11+R11 -> 96 | M11: 4 | N11: 80 | O11: 1 | P11: 16
A12: ООД03 | C12: Казахский язык и литература | D12: 5 | E12: 2 | H12: =N12+P12+R12 -> 120 | M12: 2 | N12: 40 | O12: 5 | P12: 80
A13: ООД04 | C13: Иностранный язык | D13: 4 | H13: =N13+P13+R13 -> 96 | M13: 4 | N13: 80 | O13: 1 | P13: 16
A14: ООД05 | C14: История Казахстана | D14: 4 | E14: 2 | H14: =N14+P14+R14 -> 96 | M14: 4 | N14: 80 | O14: 1 | P14: 16
A15: ООД06 | C15: Математика | D15: 5 | E15: 2 | H15: =N15+P15+R15 -> 120 | M15: 2 | N15: 40 | O15: 5 | P15: 80
A16: ООД07 | C16: Информатика | D16: 3 | H16: =N16+P16+R16 -> 72 | M16: 2 | N16: 40 | O16: 2 | P16: 32
A17: ООД08 | C17: Начальная военная и технологическая подготовка | D17: 3 | H17: =N17+P17+R17 -> 72 | M17: 2 | N17: 40 | O17: 2 | P17: 32
A18: ООД09 | C18: Самопознание | D18: 2 | H18: =N18+P18+R18 -> 48 | O18: 3 | P18: 48
A19: ООД10 | C19: Физическая культура | D19: 5 | H19: =N19+P19+R19 -> 120 | M19: 2 | N19: 40 | O19: 5 | P19: 80
B20: Предметы по выбору | H20: =N20+P20+R20 -> 0
B21: Углубленный уровень : | H21: =N21+P21+R21 -> 0
A22: ООД11 | C22: Биология | D22: 6 | E22: 2 | H22: =N22+P22+R22 -> 144 | M22: 4 | N22: 80 | O22: 4 | P22: 64
A23: ООД12 | C23: Всемирная история | D23: 6 | H23: =N23+P23+R23 -> 144 | M23: 4 | N23: 80 | O23: 4 | P23: 64
B24: Стандартный уровень: | H24: =N24+P24+R24 -> 0
A25: ООД13 | C25: Физика | D25: 3 | H25: =N25+P25+R25 -> 72 | M25: =M16 -> 2 | N25: =N16 -> 40 | O25: =O16 -> 2 | P25: 32
A26: ООД14 | C26: Графика и проектирование | D26: 3 | H26: 72 | Q26: 8 | R26: 48 | S26: 3 | T26: 24
A27: БМ | B27: Базовые модули | D27: =D28+D29+D30+D31+D32+D33+D34+D35+D36+D37+D38+D39+D40+D41+D42+D43 -> 13 | E27: =E28+E29+E30+E31+E32+E33+E34+E35+E36+E37+E38+E39+E40+E41+E42+E43 -> 0 | F27: =F28+F29+F30+F31+F32+F33+F34+F35+F36+F37+F38+F39+F40+F41+F42+F43 -> 0 | G27: =G28+G29+G30+G31+G32+G33+G34+G35+G36+G37+G38+G39+G40+G41+G42+G43 -> 0 | H27: =H28+H29+H30+H31+H32+H33+H34+H35+H36+H37+H38+H39+H40+H41+H42+H43 -> 324 | I27: =I28+I29+I30+I31+I32+I33+I34+I35+I36+I37+I38+I39+I40+I41+I42+I43 -> 0 | J27: =J28+J29+J30+J31+J32+J33+J34+J35+J36+J37+J38+J39+J40+J41+J42+J43 -> 0 | K27: =K28+K29+K30+K31+K32+K33+K34+K35+K36+K37+K38+K39+K40+K41+K42+K43 -> 0 | ... X27: =X28+X29+X30+X31+X32+X33+X34+X35+X36+X37+X38+X39+X40+X41+X42+X43 -> 132
A28: БМ 01 | B28: Развитие и совершенствование физических качеств | C28: РО 1.1. Укреплять здоровье и соблюдать принципы здорового образа жизни. РО 1.2. Совершенствовать физические качества и психофизиологические способности (Физическая культура) | D28: 3.5 | H28: =N28+P28+R28+T28+V28+X28 -> 84 | Q28: 4 | R28: 24 | S28: 3 | T28: 24 | U28: 3 | V28: 24 | W28: 2 | X28: 12
A29: БМ 02 | B29: Применение информационно-коммуникационных и цифровых технологий | C29: РО 2.1. Владеть основами информационно-коммуникационных технологий РО 2.2. Использовать услуги информационно-справочных и интерактивных веб-порталов (Информацимонно-коммуникационные технологии и цифровая грамотность) | D29: 1 | H29: =N29+P29+R29+T29+V29+X29 -> 24 | W29: 4 | X29: 24
C30: Учебная практика по применению информационно-коммуникационных и цифровых технологий | L30: 36
C31: Профессиональная практика по применению информационно-коммуникационных и цифровых технологий | L31: 144
C32: РО 2.1. Владеть основами информационно-коммуникационных технологий РО 2.2. Использовать услуги информационно-справочных и интерактивных веб-порталов (Информацимонно-коммуникационные технологии и цифровая грамотность) | D32: 1 | H32: =N32+P32+R32+T32+V32+X32 -> 24 | W32: 4 | X32: 24
A33: БМ 03 | B33: Применение базовых знаний экономики и основ предпринимательства | C33: РО 3.1. Владеть основными вопросами в области экономической теории (Основы экономической теории) | D33: 1 | H33: =N33+P33+R33+T33+V33+X33 -> 24 | S33: 3 | T33: 24
C34: РО 3.2. Анализировать и оценивать экономические процессы, происходящие на предприятии (Экономика организации) (РО3.3?) | D34: 1 | H34: =N34+P34+R34+T34+V34+X34 -> 24 | U34: 3 | V34: 24
C35: РО 3.3. Понимать тенденции развития мировой экономики, основные задачи перехода государства к «зеленой» экономике. (Зеленая экономика) (РО 3.2.?) | D35: 0.5 | H35: =N35+P35+R35+T35+V35+X35 -> 12 | W35: 2 | X35: 12
C36: РО 3.4. Владеть научными и законодательными основами организации и ведения предпринимательской деятельности в Республике Казахстан (Основы предпринимательской деятельности) | D36: 0.5 | H36: =N36+P36+R36+T36+V36+X36 -> 12 | W36: 2 | X36: 12
C37: РО 3.5. Соблюдать этику делового общения (Этика деловых отношений) | D37: 0.5 | H37: =N37+P37+R37+T37+V37+X37 -> 12 | W37: 2 | X37: 12
A38: БМ 04 | B38: Применение основ социальных наук для социализации и адаптации в обществе и трудовом коллективе | C38: РО 4.1. Понимать морально-нравственные ценности и нормы, формирующие толерантность и активную личностную позицию (Основы философии) | D38: 0.5 | H38: =N38+P38+R38+T38+V38+X38 -> 24 | U38: 3 | V38: 24
C39: РО 4.2. Понимать роль и место культуры народов Республики Казахстан в мировой цивилизации (Культурология) | D39: 0.5 | H39: =N39+P39+R39+T39+V39+X39 -> 12 | W39: 2 | X39: 12
C40: РО 4.4. Владеть основными понятиями социологии и политологии (Основы социологии и политологии) | D40: 0.5 | H40: =N40+P40+R40+T40+V40+X40 -> 12 | W40: 2 | X40: 12
...

Sheet РУП ИЯ)
A1: План учебного процесса
A2: Индекс | B2: Наименование модулей и видов учебной деятельности | C2: Наименование дисциплин | D2: Кредит саны / Количество кредитов | E2: Форма контроля | H2: обьем учебного времени
E3: по семестрам | H3: Всего | I3: в том числе | M3: Распределение по курсам и семестрам
E4: Экзамен | F4: дифференцированный зачет | G4: конртольные работы | I4: теоретические | J4: лаборатонро-практические | K4: Курсовой проект /работа | L4: Производственное обучение/профессиональная практика | M4: 1 курс | Q4: 2 курс | U4: 3 курс | Y4: 4 курс
M5: 1 сем. | O5: 2 сем. | Q5: 3 сем. | S5: 4 сем. | U5: 5 сем. | W5: 6 сем. | Y5: 7 сем. | AA5: 8 сем
N6: 20 | P6: 16 | R6: 8
A7: 1 | B7: 2 | C7: 3 | E7: 4 | F7: 5 | H7: 8 | I7: 9 | K7: 10 | L7: 11 | M7: 12 | N7: 13 | O7: 14 | P7: 15 | Q7: 16 | R7: 17 | S7: 18 | T7: 19 | U7: 20 | V7: 21 | W7: 22 | X7: 23 | Y7: 24 | Z7: 25 | AA7: 26 | AB7: 27
A8: ООД00 | B8: Модуль "Общеобразовательные дисциплины" | D8: 60 | H8: 1440 | AC8: преподаватель
B9: Обьязательные предметы
A10: ООД01 | C10: Русский язык | D10: 4 | E10: 2 | H10: =N10+P10+R10 -> 96 | M10: 4 | N10: 80 | O10: 1 | P10: 16 | AC10: Кожахметова Т.Р.
A11: ООД02 | C11: Русская литература | D11: 4 | H11: =N11+P11+R11 -> 96 | M11: 4 | N11: 80 | O11: 1 | P11: 16 | AC11: Кожахметова Т.Р.
A12: ООД03 | C12: Казахский язык и литература | D12: 5 | E12: 2 | H12: =N12+P12+R12 -> 120 | M12: 2 | N12: 40 | O12: 5 | P12: 80
A13: ООД04 | C13: Иностранный язык | D13: 4 | H13: =N13+P13+R13 -> 96 | M13: 4 | N13: 80 | O13: 1 | P13: 16 | AC13: Батхолдина Ш.Е.
A14: ООД05 | C14: История Казахстана | D14: 4 | E14: 2 | H14: =N14+P14+R14 -> 96 | M14: 4 | N14: 80 | O14: 1 | P14: 16 | AC14: Авдиенко Л.С
A15: ООД06 | C15: Математика | D15: 5 | E15: 2 | H15: =N15+P15+R15 -> 120 | M15: 2 | N15: 40 | O15: 5 | P15: 80 | AC15: Чекурда Г.П.
A16: ООД07 | C16: Информатика | D16: 3 | H16: =N16+P16+R16 -> 72 | M16: 2 | N16: 40 | O16: 2 | P16: 32 | AC16: ануарова Н.К.
A17: ООД08 | C17: Начальная военная и технологическая подготовка | D17: 3 | H17: =N17+P17+R17 -> 72 | M17: 2 | N17: 40 | O17: 2 | P17: 32 | AC17: Исин А.Е.
A18: ООД09 | C18: Самопознание | D18: 2 | H18: =N18+P18+R18 -> 48 | O18: 3 | P18: 48 | AC18: Кусаинова Д.Ж.
A19: ООД10 | C19: Физическая культура | D19: 5 | H19: =N19+P19+R19 -> 120 | M19: 2 | N19: 40 | O19: 5 | P19: 80
B20: Предметы по выбору | H20: =N20+P20+R20 -> 0
B21: Углубленный уровень : | H21: =N21+P21+R21 -> 0
A22: ООД11 | C22: Биология | D22: 6 | E22: 2 | H22: =N22+P22+R22 -> 144 | M22: 4 | N22: 80 | O22: 4 | P22: 64 | AC22: Ильчубаева Г.Т.
A23: ООД12 | C23: Всемирная история | D23: 6 | H23: =N23+P23+R23 -> 144 | M23: 4 | N23: 80 | O23: 4 | P23: 64 | AC23: Авдиенко Л.С.
B24: Стандартный уровень: | H24: =N24+P24+R24 -> 0
A25: ООД13 | C25: Физика | D25: 3 | H25: =N25+P25+R25 -> 72 | M25: =M16 -> 2 | N25: =N16 -> 40 | O25: =O16 -> 2 | P25: 32
A26: ООД14 | C26: Графика и проектирование | D26: 3 | H26: =N26+P26+R26 -> 72 | Q26: 9 | R26: 72
A27: БМ | B27: Базовые модули | D27: =SUM(D10:D26) -> 57 | E27: 5 | H27: =SUM(H10:H26) -> 1368 | M27: =SUM(M10:M26) -> 36 | N27: =SUM(N10:N26) -> 720 | O27: =SUM(O10:O26) -> 36 | P27: =SUM(P10:P26) -> 576 | Q27: =SUM(Q10:Q26) -> 9 | R27: =SUM(R10:R26) -> 72
A28: БМ 01 | B28: Кәсіби лексиканы қолдану | C28: Кәсіби орыс тілі
C29: Кәсіби шет тілі
A30: БМ 02 | B30: Мемлекеттік тілдегі іскерлік құжаттарды құрастыру | C30: Мемлекеттік тілде іс жүргізу
A31: БМ 03 | B31: Салауатты өмір салтын сақтай отырып, дене сапаларын дамыту | C31: Дене тәрбиесі
C32: Анатомия, физиология және гигиена
A33: БМ 04 | B33: Әлеуметтік-экономикалық ғылымдар негіздерін қолдану | C33: Экономика негіздері
C34: Философия негіздері
C35: Әлеуметтану және саясаттану негіздері
C36: Мәденииеттану
C37: Құқық негіздері
A38: БМ 05 | B38: Цифрлық сауаттылықты дамыту | C38: Ақпараттық-коммуникациялық технологиялар
A39: КМ | B39: Кәсіптік модульдер
A40: КМ 01 | B40: Оқу - тәрбие үрдісін тиімді ұйымдастыру | C40: Педагогика
...

Sheet РУП ФВ база 9
A1: План учебного процесса
A2: Индекс | B2: Наименование модулей и видов учебной деятельности | C2: Наименование дисциплин | D2: Кредит саны / Количество кредитов | E2: Форма контроля | H2: обьем учебного времени
E3: по семестрам | H3: Всего | I3: в том числе | M3: Распределение по курсам и семестрам
E4: Экзамен | F4: дифференцированный зачет | G4: конртольные работы | I4: теоретические | J4: лаборатонро-практические | K4: Курсовой проект /работа | L4: Производственное обучение/профессиональная практика | M4: 1 курс | Q4: 2 курс | U4: 3 курс | Y4: 4 курс
M5: 1 сем. | O5: 2 сем. | Q5: 3 сем. | S5: 4 сем. | U5: 5 сем. | W5: 6 сем. | Y5: 7 сем. | AA5: 8 сем
N6: 20 | P6: 16 | R6: 8
A7: 1 | B7: 2 | C7: 3 | E7: 4 | F7: 5 | H7: 8 | I7: 9 | K7: 10 | L7: 11 | M7: 12 | N7: 13 | O7: 14 | P7: 15 | Q7: 16 | R7: 17 | S7: 18 | T7: 19 | U7: 20 | V7: 21 | W7: 22 | X7: 23 | Y7: 24 | Z7: 25 | AA7: 26 | AB7: 27
A8: ООД00 | B8: Модуль "Общеобразовательные дисциплины" | D8: 60 | H8: 1440 | AC8: преподаватель
B9: Обьязательные предметы
A10: ООД01 | C10: Русский язык | D10: 4 | E10: 2 | H10: =N10+P10+R10 -> 96 | M10: 4 | N10: 80 | O10: 1 | P10: 16 | AC10: Кожахметова Т.Р.
A11: ООД02 | C11: Русская литература | D11: 4 | H11: =N11+P11+R11 -> 96 | M11: 4 | N11: 80 | O11: 1 | P11: 16 | AC11: Кожахметова Т.Р.
A12: ООД03 | C12: Казахский язык и литература | D12: 5 | E12: 2 | H12: =N12+P12+R12 -> 120 | M12: 2 | N12: 40 | O12: 5 | P12: 80
A13: ООД04 | C13: Иностранный язык | D13: 4 | H13: =N13+P13+R13 -> 96 | M13: 4 | N13: 80 | O13: 1 | P13: 16 | AC13: Батхолдина Ш.Е.
A14: ООД05 | C14: История Казахстана | D14: 4 | E14: 2 | H14: =N14+P14+R14 -> 96 | M14: 4 | N14: 80 | O14: 1 | P14: 16 | AC14: Авдиенко Л.С
A15: ООД06 | C15: Математика | D15: 5 | E15: 2 | H15: =N15+P15+R15 -> 120 | M15: 2 | N15: 40 | O15: 5 | P15: 80 | AC15: Чекурда Г.П.
A16: ООД07 | C16: Информатика | D16: 3 | H16: =N16+P16+R16 -> 72 | M16: 2 | N16: 40 | O16: 2 | P16: 32 | AC16: ануарова Н.К.
A17: ООД08 | C17: Начальная военная и технологическая подготовка | D17: 3 | H17: =N17+P17+R17 -> 72 | M17: 2 | N17: 40 | O17: 2 | P17: 32 | AC17: Исин А.Е.
A18: ООД09 | C18: Самопознание | D18: 2 | H18: =N18+P18+R18 -> 48 | O18: 3 | P18: 48 | AC18: Кусаинова Д.Ж.
A19: ООД10 | C19: Физическая культура | D19: 5 | H19: =N19+P19+R19 -> 120 | M19: 2 | N19: 40 | O19: 5 | P19: 80
B20: Предметы по выбору | H20: =N20+P20+R20 -> 0
B21: Углубленный уровень : | H21: =N21+P21+R21 -> 0
A22: ООД11 | C22: Биология | D22: 6 | E22: 2 | H22: =N22+P22+R22 -> 144 | M22: 4 | N22: 80 | O22: 4 | P22: 64 | AC22: Ильчубаева Г.Т.
A23: ООД12 | C23: Всемирная история | D23: 6 | H23: =N23+P23+R23 -> 144 | M23: 4 | N23: 80 | O23: 4 | P23: 64 | AC23: Авдиенко Л.С.
B24: Стандартный уровень: | H24: =N24+P24+R24 -> 0
A25: ООД13 | C25: Физика | D25: 3 | H25: =N25+P25+R25 -> 72 | M25: =M16 -> 2 | N25: =N16 -> 40 | O25: =O16 -> 2 | P25: 32
A26: ООД14 | C26: Графика и проектирование | D26: 3 | H26: =N26+P26+R26 -> 72 | Q26: 9 | R26: 72
A27: БМ | B27: Базовые модули | D27: =SUM(D10:D26) -> 57 | E27: 5 | H27: =SUM(H10:H26) -> 1368 | M27: =SUM(M10:M26) -> 36 | N27: =SUM(N10:N26) -> 720 | O27: =SUM(O10:O26) -> 36 | P27: =SUM(P10:P26) -> 576 | Q27: =SUM(Q10:Q26) -> 9 | R27: =SUM(R10:R26) -> 72
A28: БМ 01 | B28: Кәсіби лексиканы қолдану | C28: Кәсіби орыс тілі
C29: Кәсіби шет тілі
A30: БМ 02 | B30: Мемлекеттік тілдегі іскерлік құжаттарды құрастыру | C30: Мемлекеттік тілде іс жүргізу
A31: БМ 03 | B31: Салауатты өмір салтын сақтай отырып, дене сапаларын дамыту | C31: Дене тәрбиесі
C32: Анатомия, физиология және гигиена
A33: БМ 04 | B33: Әлеуметтік-экономикалық ғылымдар негіздерін қолдану | C33: Экономика негіздері
C34: Философия негіздері
C35: Әлеуметтану және саясаттану негіздері
C36: Мәденииеттану
C37: Құқық негіздері
A38: БМ 05 | B38: Цифрлық сауаттылықты дамыту | C38: Ақпараттық-коммуникациялық технологиялар
A39: КМ | B39: Кәсіптік модульдер
A40: КМ 01 | B40: Оқу - тәрбие үрдісін тиімді ұйымдастыру | C40: Педагогика
...

Sheet РУП НО)
A1: План учебного процесса
A2: Индекс | B2: Наименование модулей и видов учебной деятельности | C2: Наименование дисциплин | D2: Кредит саны / Количество кредитов | E2: Форма контроля | H2: обьем учебного времени
E3: по семестрам | H3: Всего | I3: в том числе | M3: Распределение по курсам и семестрам
E4: Экзамен | F4: дифференцированный зачет | G4: конртольные работы | I4: теоретические | J4: лаборатонро-практические | K4: Курсовой проект /работа | L4: Производственное обучение/профессиональная практика | M4: 1 курс | Q4: 2 курс | U4: 3 курс | Y4: 4 курс
M5: 1 сем. | O5: 2 сем. | Q5: 3 сем. | S5: 4 сем. | U5: 5 сем. | W5: 6 сем. | Y5: 7 сем. | AA5: 8 сем
N6: 20 | P6: 16 | R6: 8
A7: 1 | B7: 2 | C7: 3 | E7: 4 | F7: 5 | H7: 8 | I7: 9 | K7: 10 | L7: 11 | M7: 12 | N7: 13 | O7: 14 | P7: 15 | Q7: 16 | R7: 17 | S7: 18 | T7: 19 | U7: 20 | V7: 21 | W7: 22 | X7: 23 | Y7: 24 | Z7: 25 | AA7: 26 | AB7: 27
A8: ООД00 | B8: Модуль "Общеобразовательные дисциплины" | D8: 60 | H8: 1440 | AC8: преподаватель
B9: Обьязательные предметы
A10: ООД01 | C10: Русский язык | D10: 4 | E10: 2 | H10: =N10+P10+R10 -> 96 | M10: 4 | N10: 80 | O10: 1 | P10: 16 | AC10: Кожахметова Т.Р.
A11: ООД02 | C11: Русская литература | D11: 4 | H11: =N11+P11+R11 -> 96 | M11: 4 | N11: 80 | O11: 1 | P11: 16 | AC11: Кожахметова Т.Р.
A12: ООД03 | C12: Казахский язык и литература | D12: 5 | E12: 2 | H12: =N12+P12+R12 -> 120 | M12: 2 | N12: 40 | O12: 5 | P12: 80
A13: ООД04 | C13: Иностранный язык | D13: 4 | H13: =N13+P13+R13 -> 96 | M13: 4 | N13: 80 | O13: 1 | P13: 16 | AC13: Батхолдина Ш.Е.
A14: ООД05 | C14: История Казахстана | D14: 4 | E14: 2 | H14: =N14+P14+R14 -> 96 | M14: 4 | N14: 80 | O14: 1 | P14: 16 | AC14: Авдиенко Л.С
A15: ООД06 | C15: Математика | D15: 5 | E15: 2 | H15: =N15+P15+R15 -> 120 | M15: 2 | N15: 40 | O15: 5 | P15: 80 | AC15: Чекурда Г.П.
A16: ООД07 | C16: Информатика | D16: 3 | H16: =N16+P16+R16 -> 72 | M16: 2 | N16: 40 | O16: 2 | P16: 32 | AC16: ануарова Н.К.
A17: ООД08 | C17: Начальная военная и технологическая подготовка | D17: 3 | H17: =N17+P17+R17 -> 72 | M17: 2 | N17: 40 | O17: 2 | P17: 32 | AC17: Исин А.Е.
A18: ООД09 | C18: Самопознание | D18: 2 | H18: =N18+P18+R18 -> 48 | O18: 3 | P18: 48 | AC18: Кусаинова Д.Ж.
A19: ООД10 | C19: Физическая культура | D19: 5 | H19: =N19+P19+R19 -> 120 | M19: 2 | N19: 40 | O19: 5 | P19: 80
B20: Предметы по выбору | H20: =N20+P20+R20 -> 0
B21: Углубленный уровень : | H21: =N21+P21+R21 -> 0
A22: ООД11 | C22: Биология | D22: 6 | E22: 2 | H22: =N22+P22+R22 -> 144 | M22: 4 | N22: 80 | O22: 4 | P22: 64 | AC22: Ильчубаева Г.Т.
A23: ООД12 | C23: Всемирная история | D23: 6 | H23: =N23+P23+R23 -> 144 | M23: 4 | N23: 80 | O23: 4 | P23: 64 | AC23: Авдиенко Л.С.
B24: Стандартный уровень: | H24: =N24+P24+R24 -> 0
A25: ООД13 | C25: Физика | D25: 3 | H25: =N25+P25+R25 -> 72 | M25: =M16 -> 2 | N25: =N16 -> 40 | O25: =O16 -> 2 | P25: 32
A26: ООД14 | C26: Графика и проектирование | D26: 3 | H26: =N26+P26+R26 -> 72 | Q26: 9 | R26: 72
A27: БМ | B27: Базовые модули | D27: =SUM(D10:D26) -> 57 | E27: 5 | H27: =SUM(H10:H26) -> 1368 | M27: =SUM(M10:M26) -> 36 | N27: =SUM(N10:N26) -> 720 | O27: =SUM(O10:O26) -> 36 | P27: =SUM(P10:P26) -> 576 | Q27: =SUM(Q10:Q26) -> 9 | R27: =SUM(R10:R26) -> 72
A28: БМ 01 | B28: Кәсіби лексиканы қолдану | C28: Кәсіби орыс тілі
C29: Кәсіби шет тілі
A30: БМ 02 | B30: Мемлекеттік тілдегі іскерлік құжаттарды құрастыру | C30: Мемлекеттік тілде іс жүргізу
A31: БМ 03 | B31: Салауатты өмір салтын сақтай отырып, дене сапаларын дамыту | C31: Дене тәрбиесі
C32: Анатомия, физиология және гигиена
A33: БМ 04 | B33: Әлеуметтік-экономикалық ғылымдар негіздерін қолдану | C33: Экономика негіздері
C34: Философия негіздері
C35: Әлеуметтану және саясаттану негіздері
C36: Мәденииеттану
C37: Құқық негіздері
A38: БМ 05 | B38: Цифрлық сауаттылықты дамыту | C38: Ақпараттық-коммуникациялық технологиялар
A39: КМ | B39: Кәсіптік модульдер
A40: КМ 01 | B40: Оқу - тәрбие үрдісін тиімді ұйымдастыру | C40: Педагогика
...

Sheet РУП ДВиО
A1: План учебного процесса
A2: Индекс | B2: Наименование модулей и видов учебной деятельности | C2: Наименование дисциплин | D2: Кредит саны / Количество кредитов | E2: Форма контроля | H2: обьем учебного времени
E3: по семестрам | H3: Всего | I3: в том числе | M3: Распределение по курсам и семестрам
E4: Экзамен | F4: дифференцированный зачет | G4: конртольные работы | I4: теоретические | J4: лаборатонро-практические | K4: Курсовой проект /работа | L4: Производственное обучение/профессиональная практика | M4: 1 курс | Q4: 2 курс | U4: 3 курс | Y4: 4 курс
M5: 1 сем. | O5: 2 сем. | Q5: 3 сем. | S5: 4 сем. | U5: 5 сем. | W5: 6 сем. | Y5: 7 сем. | AA5: 8 сем
N6: 20 | P6: 16 | R6: 8
A7: 1 | B7: 2 | C7: 3 | E7: 4 | F7: 5 | H7: 8 | I7: 9 | K7: 10 | L7: 11 | M7: 12 | N7: 13 | O7: 14 | P7: 15 | Q7: 16 | R7: 17 | S7: 18 | T7: 19 | U7: 20 | V7: 21 | W7: 22 | X7: 23 | Y7: 24 | Z7: 25 | AA7: 26 | AB7: 27
A8: ООД00 | B8: Модуль "Общеобразовательные дисциплины" | D8: 60 | H8: 1440 | AC8: преподаватель
B9: Обьязательные предметы
A10: ООД01 | C10: Русский язык | D10: 4 | E10: 2 | H10: =N10+P10+R10 -> 96 | M10: 4 | N10: 80 | O10: 1 | P10: 16 | AC10: Кожахметова Т.Р.
A11: ООД02 | C11: Русская литература | D11: 4 | H11: =N11+P11+R11 -> 96 | M11: 4 | N11: 80 | O11: 1 | P11: 16 | AC11: Кожахметова Т.Р.
A12: ООД03 | C12: Казахский язык и литература | D12: 5 | E12: 2 | H12: =N12+P12+R12 -> 120 | M12: 2 | N12: 40 | O12: 5 | P12: 80
A13: ООД04 | C13: Иностранный язык | D13: 4 | H13: =N13+P13+R13 -> 96 | M13: 4 | N13: 80 | O13: 1 | P13: 16 | AC13: Батхолдина Ш.Е.
A14: ООД05 | C14: История Казахстана | D14: 4 | E14: 2 | H14: =N14+P14+R14 -> 96 | M14: 4 | N14: 80 | O14: 1 | P14: 16 | AC14: Авдиенко Л.С
A15: ООД06 | C15: Математика | D15: 5 | E15: 2 | H15: =N15+P15+R15 -> 120 | M15: 2 | N15: 40 | O15: 5 | P15: 80 | AC15: Чекурда Г.П.
A16: ООД07 | C16: Информатика | D16: 3 | H16: =N16+P16+R16 -> 72 | M16: 2 | N16: 40 | O16: 2 | P16: 32 | AC16: ануарова Н.К.
A17: ООД08 | C17: Начальная военная и технологическая подготовка | D17: 3 | H17: =N17+P17+R17 -> 72 | M17: 2 | N17: 40 | O17: 2 | P17: 32 | AC17: Исин А.Е.
A18: ООД09 | C18: Самопознание | D18: 2 | H18: =N18+P18+R18 -> 48 | O18: 3 | P18: 48 | AC18: Кусаинова Д.Ж.
A19: ООД10 | C19: Физическая культура | D19: 5 | H19: =N19+P19+R19 -> 120 | M19: 2 | N19: 40 | O19: 5 | P19: 80
B20: Предметы по выбору | H20: =N20+P20+R20 -> 0
B21: Углубленный уровень : | H21: =N21+P21+R21 -> 0
A22: ООД11 | C22: Биология | D22: 6 | E22: 2 | H22: =N22+P22+R22 -> 144 | M22: 4 | N22: 80 | O22: 4 | P22: 64 | AC22: Ильчубаева Г.Т.
A23: ООД12 | C23: Всемирная история | D23: 6 | H23: =N23+P23+R23 -> 144 | M23: 4 | N23: 80 | O23: 4 | P23: 64 | AC23: Авдиенко Л.С.
B24: Стандартный уровень: | H24: =N24+P24+R24 -> 0
A25: ООД13 | C25: Физика | D25: 3 | H25: =N25+P25+R25 -> 72 | M25: =M16 -> 2 | N25: =N16 -> 40 | O25: =O16 -> 2 | P25: 32
A26: ООД14 | C26: Графика и проектирование | D26: 3 | H26: =N26+P26+R26 -> 72 | Q26: 9 | R26: 72
A27: БМ | B27: Базовые модули | D27: =SUM(D10:D26) -> 57 | E27: 5 | H27: =SUM(H10:H26) -> 1368 | M27: =SUM(M10:M26) -> 36 | N27: =SUM(N10:N26) -> 720 | O27: =SUM(O10:O26) -> 36 | P27: =SUM(P10:P26) -> 576 | Q27: =SUM(Q10:Q26) -> 9 | R27: =SUM(R10:R26) -> 72
A28: БМ 01 | B28: Кәсіби лексиканы қолдану | C28: Кәсіби орыс тілі
C29: Кәсіби шет тілі
A30: БМ 02 | B30: Мемлекеттік тілдегі іскерлік құжаттарды құрастыру | C30: Мемлекеттік тілде іс жүргізу
A31: БМ 03 | B31: Салауатты өмір салтын сақтай отырып, дене сапаларын дамыту | C31: Дене тәрбиесі
C32: Анатомия, физиология және гигиена
A33: БМ 04 | B33: Әлеуметтік-экономикалық ғылымдар негіздерін қолдану | C33: Экономика негіздері
C34: Философия негіздері
C35: Әлеуметтану және саясаттану негіздері
C36: Мәденииеттану
C37: Құқық негіздері
A38: БМ 05 | B38: Цифрлық сауаттылықты дамыту | C38: Ақпараттық-коммуникациялық технологиялар
A39: КМ | B39: Кәсіптік модульдер
A40: КМ 01 | B40: Оқу - тәрбие үрдісін тиімді ұйымдастыру | C40: Педагогика
...

Sheet РУП АТ
A1: Оқу үрдісінің жоспары
A2: Индекс | B2: Циклдер (модульдердің) атауы | C2: Пәндердің атауы | D2: Кредит саны / Количество кредитов | E2: Бақылау нысаны | H2: Оқу уақытының көлемі (сағат)
E3: Семестр бойынша бөлінуі | H3: Барлығы | I3: оның ішінде | M3: Семестр бойынша бөлінуі
E4: Емтихан | F4: Сынақ (дифференциалды сынақ) | G4: Бақылау жұмысы | I4: теориялық оқыту | J4: зертханалық - практикалық жұмыстар | K4: курсытқ жұмыс/жоба | L4: Өндірістік оқыту және/ немесе кәсіптік (педагогикалық) практика | M4: 1 курс | Q4: 2 курс | U4: 3 курс | Y4: 4 курс
M5: 1 сем. | O5: 2 сем. | Q5: 3 сем. | S5: 4 сем. | U5: 5 сем. | W5: 6 сем. | Y5: 7 сем. | AA5: 8 сем
N6: 20 | P6: 16 | R6: 8
A7: 1 | B7: 2 | C7: 3 | E7: 4 | F7: 5 | H7: 8 | I7: 9 | J7: 10 | L7: 11 | M7: 12 | N7: 13 | O7: 14 | P7: 15 | Q7: 16 | R7: 17 | S7: 18 | T7: 19 | U7: 20 | V7: 21 | W7: 22 | X7: 23 | Y7: 24 | Z7: 25 | AA7: 26 | AB7: 27
A8: ЖБП 00 | B8: Жалпы білім беретін пәндер | D8: 57 | H8: 1368 | AC8: Оқытушы
B9: =[1]Лист1!$B$9 -> Міндетті пәндер
A10: ЖБП 01 | C10: Қазақ тілі | D10: 4 | E10: 2 | H10: =N10+P10+R10 -> 96 | M10: 4 | N10: 80 | O10: 1 | P10: 16
A11: ЖБП 02 | C11: Қазақ әдебиеті | D11: 4 | H11: =N11+P11+R11 -> 96 | M11: 4 | N11: 80 | O11: 1 | P11: 16
A12: ЖБП 03 | C12: Орыс тілі және әдебиеті | D12: 5 | E12: 2 | H12: =N12+P12+R12 -> 120 | M12: 2 | N12: 40 | O12: 5 | P12: 80
A13: ЖБП 04 | C13: Шетел тілі | D13: 4 | H13: =N13+P13+R13 -> 96 | M13: 4 | N13: 80 | O13: 1 | P13: 16
A14: ЖБП 05 | C14: Қазақстан тарихы | D14: 4 | E14: 2 | H14: =N14+P14+R14 -> 96 | M14: 4 | N14: 80 | O14: 1 | P14: 16
A15: ЖБП 06 | C15: Математика | D15: 5 | E15: 2 | H15: =N15+P15+R15 -> 120 | M15: 2 | N15: 40 | O15: 5 | P15: 80
A16: ЖБП 07 | C16: Информатика | D16: 3 | H16: =N16+P16+R16 -> 72 | M16: 2 | N16: 40 | O16: 2 | P16: 32
A17: ЖБП 08 | C17: Алғашқы әскери және технологиялық дайындық | D17: 3 | H17: =N17+P17+R17 -> 72 | M17: 2 | N17: 40 | O17: 2 | P17: 32
A18: ЖБП 09 | C18: Өзін-өзі тану | D18: 2 | H18: =N18+P18+R18 -> 48 | O18: 3 | P18: 48
A19: ЖБП 10 | C19: Дене тәрбиесі | D19: 5 | H19: =N19+P19+R19 -> 120 | M19: 2 | N19: 40 | O19: 5 | P19: 80
B20: Таңдау бойынша пәндер | H20: =N20+P20+R20 -> 0
B21: Тереңдетілген деңгей: | H21: =N21+P21+R21 -> 0
A22: ЖБП 11 | C22: Биология | D22: 6 | E22: 2 | H22: =N22+P22+R22 -> 144 | M22: 4 | N22: 80 | O22: 4 | P22: 64
A23: ЖБП 12 | C23: Дүниежүзілік тарих | D23: 6 | H23: =N23+P23+R23 -> 144 | M23: 4 | N23: 80 | O23: 4 | P23: 64
B24: Таңдау бойынша пәндер | H24: =N24+P24+R24 -> 0
B25: Стандарттық деңгей: | H25: =N25+P25+R25 -> 0
A26: ЖБП 13 | C26: Физика | D26: 3 | H26: =N26+P26+R26 -> 72 | M26: =M16 -> 2 | N26: =N16 -> 40 | O26: =O16 -> 2 | P26: 32
A27: ЖБП 14 | C27: Графика и проектирование | D27: 3 | H27: =N27+P27+R27 -> 72 | Q27: 9 | R27: 72
A28: БМ | B28: Базалық модульдер | E28: 5 | M28: =SUM(M10:M27) -> 36 | N28: =SUM(N10:N27) -> 720 | O28: =SUM(O10:O27) -> 36 | P28: =SUM(P10:P27) -> 576 | Q28: =SUM(Q10:Q27) -> 9 | R28: =SUM(R10:R27) -> 72
A29: БМ 01 | B29: Кәсіби лексиканы қолдану | C29: Кәсіби орыс тілі
C30: Кәсіби шет тілі
A31: БМ 02 | B31: Мемлекеттік тілдегі іскерлік құжаттарды құрастыру | C31: Мемлекеттік тілде іс жүргізу
A32: БМ 03 | B32: Салауатты өмір салтын сақтай отырып, дене сапаларын дамыту | C32: Дене тәрбиесі
C33: Анатомия, физиология және гигиена
A34: БМ 04 | B34: Әлеуметтік-экономикалық ғылымдар негіздерін қолдану | C34: Экономика негіздері
C35: Философия негіздері
C36: Әлеуметтану және саясаттану негіздері
C37: Мәденииеттану
C38: Құқық негіздері
A39: БМ 05 | B39: Цифрлық сауаттылықты дамыту | C39: Ақпараттық-коммуникациялық технологиялар
A40: КМ | B40: Кәсіптік модульдер
...

Sheet РУП ДШ
A1: Оқу үрдісінің жоспары
A2: Индекс | B2: Циклдер (модульдердің) атауы | C2: Пәндердің атауы | D2: Кредит саны / Количество кредитов | E2: Бақылау нысаны | H2: Оқу уақытының көлемі (сағат)
E3: Семестр бойынша бөлінуі | H3: Барлығы | I3: оның ішінде | M3: Семестр бойынша бөлінуі
E4: Емтихан | F4: Сынақ (дифференциалды сынақ) | G4: Бақылау жұмысы | I4: теориялық оқыту | J4: зертханалық - практикалық жұмыстар | K4: курсытқ жұмыс/жоба | L4: Өндірістік оқыту және/ немесе кәсіптік (педагогикалық) практика | M4: 1 курс | Q4: 2 курс | U4: 3 курс | Y4: 4 курс
M5: 1 сем. | O5: 2 сем. | Q5: 3 сем. | S5: 4 сем. | U5: 5 сем. | W5: 6 сем. | Y5: 7 сем. | AA5: 8 сем
N6: 20 | P6: 16 | R6: 8
A7: 1 | B7: 2 | C7: 3 | E7: 4 | F7: 5 | H7: 8 | I7: 9 | J7: 10 | L7: 11 | M7: 12 | N7: 13 | O7: 14 | P7: 15 | Q7: 16 | R7: 17 | S7: 18 | T7: 19 | U7: 20 | V7: 21 | W7: 22 | X7: 23 | Y7: 24 | Z7: 25 | AA7: 26 | AB7: 27
A8: ЖБП 00 | B8: Жалпы білім беретін пәндер | D8: 57 | H8: 1368 | AC8: Оқытушы
B9: =[1]Лист1!$B$9 -> Міндетті пәндер
A10: ЖБП 01 | C10: Қазақ тілі | D10: 4 | E10: 2 | H10: =N10+P10+R10 -> 96 | M10: 4 | N10: 80 | O10: 1 | P10: 16
A11: ЖБП 02 | C11: Қазақ әдебиеті | D11: 4 | H11: =N11+P11+R11 -> 96 | M11: 4 | N11: 80 | O11: 1 | P11: 16
A12: ЖБП 03 | C12: Орыс тілі және әдебиеті | D12: 5 | E12: 2 | H12: =N12+P12+R12 -> 120 | M12: 2 | N12: 40 | O12: 5 | P12: 80
A13: ЖБП 04 | C13: Шетел тілі | D13: 4 | H13: =N13+P13+R13 -> 96 | M13: 4 | N13: 80 | O13: 1 | P13: 16
A14: ЖБП 05 | C14: Қазақстан тарихы | D14: 4 | E14: 2 | H14: =N14+P14+R14 -> 96 | M14: 4 | N14: 80 | O14: 1 | P14: 16
A15: ЖБП 06 | C15: Математика | D15: 5 | E15: 2 | H15: =N15+P15+R15 -> 120 | M15: 2 | N15: 40 | O15: 5 | P15: 80
A16: ЖБП 07 | C16: Информатика | D16: 3 | H16: =N16+P16+R16 -> 72 | M16: 2 | N16: 40 | O16: 2 | P16: 32
A17: ЖБП 08 | C17: Алғашқы әскери және технологиялық дайындық | D17: 3 | H17: =N17+P17+R17 -> 72 | M17: 2 | N17: 40 | O17: 2 | P17: 32
A18: ЖБП 09 | C18: Өзін-өзі тану | D18: 2 | H18: =N18+P18+R18 -> 48 | O18: 3 | P18: 48
A19: ЖБП 10 | C19: Дене тәрбиесі | D19: 5 | H19: =N19+P19+R19 -> 120 | M19: 2 | N19: 40 | O19: 5 | P19: 80
B20: Таңдау бойынша пәндер | H20: =N20+P20+R20 -> 0
B21: Тереңдетілген деңгей: | H21: =N21+P21+R21 -> 0
A22: ЖБП 11 | C22: Биология | D22: 6 | E22: 2 | H22: =N22+P22+R22 -> 144 | M22: 4 | N22: 80 | O22: 4 | P22: 64
A23: ЖБП 12 | C23: Дүниежүзілік тарих | D23: 6 | H23: =N23+P23+R23 -> 144 | M23: 4 | N23: 80 | O23: 4 | P23: 64
B24: Таңдау бойынша пәндер | H24: =N24+P24+R24 -> 0
B25: Стандарттық деңгей: | H25: =N25+P25+R25 -> 0
A26: ЖБП 13 | C26: Физика | D26: 3 | H26: =N26+P26+R26 -> 72 | M26: =M16 -> 2 | N26: =N16 -> 40 | O26: =O16 -> 2 | P26: 32
A27: ЖБП 14 | C27: Графика и проектирование | D27: 3 | H27: =N27+P27+R27 -> 72 | Q27: 9 | R27: 72
A28: БМ | B28: Базалық модульдер | E28: 5 | M28: =SUM(M10:M27) -> 36 | N28: =SUM(N10:N27) -> 720 | O28: =SUM(O10:O27) -> 36 | P28: =SUM(P10:P27) -> 576 | Q28: =SUM(Q10:Q27) -> 9 | R28: =SUM(R10:R27) -> 72
A29: БМ 01 | B29: Кәсіби лексиканы қолдану | C29: Кәсіби орыс тілі
C30: Кәсіби шет тілі
A31: БМ 02 | B31: Мемлекеттік тілдегі іскерлік құжаттарды құрастыру | C31: Мемлекеттік тілде іс жүргізу
A32: БМ 03 | B32: Салауатты өмір салтын сақтай отырып, дене сапаларын дамыту | C32: Дене тәрбиесі
C33: Анатомия, физиология және гигиена
A34: БМ 04 | B34: Әлеуметтік-экономикалық ғылымдар негіздерін қолдану | C34: Экономика негіздері
C35: Философия негіздері
C36: Әлеуметтану және саясаттану негіздері
C37: Мәденииеттану
C38: Құқық негіздері
A39: БМ 05 | B39: Цифрлық сауаттылықты дамыту | C39: Ақпараттық-коммуникациялық технологиялар
A40: КМ | B40: Кәсіптік модульдер
...

Sheet РУП ББ
A1: Оқу үрдісінің жоспары
A2: Индекс | B2: Циклдер (модульдердің) атауы | C2: Пәндердің атауы | D2: Кредит саны / Количество кредитов | E2: Бақылау нысаны | H2: Оқу уақытының көлемі (сағат)
E3: Семестр бойынша бөлінуі | H3: Барлығы | I3: оның ішінде | M3: Семестр бойынша бөлінуі
E4: Емтихан | F4: Сынақ (дифференциалды сынақ) | G4: Бақылау жұмысы | I4: теориялық оқыту | J4: зертханалық - практикалық жұмыстар | K4: курсытқ жұмыс/жоба | L4: Өндірістік оқыту және/ немесе кәсіптік (педагогикалық) практика | M4: 1 курс | Q4: 2 курс | U4: 3 курс | Y4: 4 курс
M5: 1 сем. | O5: 2 сем. | Q5: 3 сем. | S5: 4 сем. | U5: 5 сем. | W5: 6 сем. | Y5: 7 сем. | AA5: 8 сем
N6: 20 | P6: 16 | R6: 8
A7: 1 | B7: 2 | C7: 3 | E7: 4 | F7: 5 | H7: 8 | I7: 9 | J7: 10 | L7: 11 | M7: 12 | N7: 13 | O7: 14 | P7: 15 | Q7: 16 | R7: 17 | S7: 18 | T7: 19 | U7: 20 | V7: 21 | W7: 22 | X7: 23 | Y7: 24 | Z7: 25 | AA7: 26 | AB7: 27
A8: ЖБП 00 | B8: Жалпы білім беретін пәндер | D8: 57 | H8: 1368 | AC8: Оқытушы
B9: =[1]Лист1!$B$9 -> Міндетті пәндер
A10: ЖБП 01 | C10: Қазақ тілі | D10: 4 | E10: 2 | H10: =N10+P10+R10 -> 96 | M10: 4 | N10: 80 | O10: 1 | P10: 16
A11: ЖБП 02 | C11: Қазақ әдебиеті | D11: 4 | H11: =N11+P11+R11 -> 96 | M11: 4 | N11: 80 | O11: 1 | P11: 16
A12: ЖБП 03 | C12: Орыс тілі және әдебиеті | D12: 5 | E12: 2 | H12: =N12+P12+R12 -> 120 | M12: 2 | N12: 40 | O12: 5 | P12: 80
A13: ЖБП 04 | C13: Шетел тілі | D13: 4 | H13: =N13+P13+R13 -> 96 | M13: 4 | N13: 80 | O13: 1 | P13: 16
A14: ЖБП 05 | C14: Қазақстан тарихы | D14: 4 | E14: 2 | H14: =N14+P14+R14 -> 96 | M14: 4 | N14: 80 | O14: 1 | P14: 16
A15: ЖБП 06 | C15: Математика | D15: 5 | E15: 2 | H15: =N15+P15+R15 -> 120 | M15: 2 | N15: 40 | O15: 5 | P15: 80
A16: ЖБП 07 | C16: Информатика | D16: 3 | H16: =N16+P16+R16 -> 72 | M16: 2 | N16: 40 | O16: 2 | P16: 32
A17: ЖБП 08 | C17: Алғашқы әскери және технологиялық дайындық | D17: 3 | H17: =N17+P17+R17 -> 72 | M17: 2 | N17: 40 | O17: 2 | P17: 32
A18: ЖБП 09 | C18: Өзін-өзі тану | D18: 2 | H18: =N18+P18+R18 -> 48 | O18: 3 | P18: 48
A19: ЖБП 10 | C19: Дене тәрбиесі | D19: 5 | H19: =N19+P19+R19 -> 120 | M19: 2 | N19: 40 | O19: 5 | P19: 80
B20: Таңдау бойынша пәндер | H20: =N20+P20+R20 -> 0
B21: Тереңдетілген деңгей: | H21: =N21+P21+R21 -> 0
A22: ЖБП 11 | C22: Биология | D22: 6 | E22: 2 | H22: =N22+P22+R22 -> 144 | M22: 4 | N22: 80 | O22: 4 | P22: 64
A23: ЖБП 12 | C23: Дүниежүзілік тарих | D23: 6 | H23: =N23+P23+R23 -> 144 | M23: 4 | N23: 80 | O23: 4 | P23: 64
B24: Таңдау бойынша пәндер | H24: =N24+P24+R24 -> 0
B25: Стандарттық деңгей: | H25: =N25+P25+R25 -> 0
A26: ЖБП 13 | C26: Физика | D26: 3 | H26: =N26+P26+R26 -> 72 | M26: =M16 -> 2 | N26: =N16 -> 40 | O26: =O16 -> 2 | P26: 32
A27: ЖБП 14 | C27: Графика и проектирование | D27: 3 | H27: =N27+P27+R27 -> 72 | Q27: 9 | R27: 72
A28: БМ | B28: Базалық модульдер | E28: 5 | M28: =SUM(M10:M27) -> 36 | N28: =SUM(N10:N27) -> 720 | O28: =SUM(O10:O27) -> 36 | P28: =SUM(P10:P27) -> 576 | Q28: =SUM(Q10:Q27) -> 9 | R28: =SUM(R10:R27) -> 72
A29: БМ 01 | B29: Кәсіби лексиканы қолдану | C29: Кәсіби орыс тілі
C30: Кәсіби шет тілі
A31: БМ 02 | B31: Мемлекеттік тілдегі іскерлік құжаттарды құрастыру | C31: Мемлекеттік тілде іс жүргізу
A32: БМ 03 | B32: Салауатты өмір салтын сақтай отырып, дене сапаларын дамыту | C32: Дене тәрбиесі
C33: Анатомия, физиология және гигиена
A34: БМ 04 | B34: Әлеуметтік-экономикалық ғылымдар негіздерін қолдану | C34: Экономика негіздері
C35: Философия негіздері
C36: Әлеуметтану және саясаттану негіздері
C37: Мәденииеттану
C38: Құқық негіздері
A39: БМ 05 | B39: Цифрлық сауаттылықты дамыту | C39: Ақпараттық-коммуникациялық технологиялар
A40: КМ | B40: Кәсіптік модульдер
...

Sheet РУП КиЛ
A1: Оқу үрдісінің жоспары
A2: Индекс | B2: Циклдер (модульдердің) атауы | C2: Пәндердің атауы | D2: Кредит саны / Количество кредитов | E2: Бақылау нысаны | H2: Оқу уақытының көлемі (сағат)
E3: Семестр бойынша бөлінуі | H3: Барлығы | I3: оның ішінде | M3: Семестр бойынша бөлінуі
E4: Емтихан | F4: Сынақ (дифференциалды сынақ) | G4: Бақылау жұмысы | I4: теориялық оқыту | J4: зертханалық - практикалық жұмыстар | K4: курсытқ жұмыс/жоба | L4: Өндірістік оқыту және/ немесе кәсіптік (педагогикалық) практика | M4: 1 курс | Q4: 2 курс | U4: 3 курс | Y4: 4 курс
M5: 1 сем. | O5: 2 сем. | Q5: 3 сем. | S5: 4 сем. | U5: 5 сем. | W5: 6 сем. | Y5: 7 сем. | AA5: 8 сем
N6: 20 | P6: 16 | R6: 8
A7: 1 | B7: 2 | C7: 3 | E7: 4 | F7: 5 | H7: 8 | I7: 9 | J7: 10 | L7: 11 | M7: 12 | N7: 13 | O7: 14 | P7: 15 | Q7: 16 | R7: 17 | S7: 18 | T7: 19 | U7: 20 | V7: 21 | W7: 22 | X7: 23 | Y7: 24 | Z7: 25 | AA7: 26 | AB7: 27
A8: ЖБП 00 | B8: Жалпы білім беретін пәндер | D8: 57 | H8: 1368 | AC8: Оқытушы
B9: =[1]Лист1!$B$9 -> Міндетті пәндер
A10: ЖБП 01 | C10: Қазақ тілі | D10: 4 | E10: 2 | H10: =N10+P10+R10 -> 96 | M10: 4 | N10: 80 | O10: 1 | P10: 16
A11: ЖБП 02 | C11: Қазақ әдебиеті | D11: 4 | H11: =N11+P11+R11 -> 96 | M11: 4 | N11: 80 | O11: 1 | P11: 16
A12: ЖБП 03 | C12: Орыс тілі және әдебиеті | D12: 5 | E12: 2 | H12: =N12+P12+R12 -> 120 | M12: 2 | N12: 40 | O12: 5 | P12: 80
A13: ЖБП 04 | C13: Шетел тілі | D13: 4 | H13: =N13+P13+R13 -> 96 | M13: 4 | N13: 80 | O13: 1 | P13: 16
A14: ЖБП 05 | C14: Қазақстан тарихы | D14: 4 | E14: 2 | H14: =N14+P14+R14 -> 96 | M14: 4 | N14: 80 | O14: 1 | P14: 16
A15: ЖБП 06 | C15: Математика | D15: 5 | E15: 2 | H15: =N15+P15+R15 -> 120 | M15: 2 | N15: 40 | O15: 5 | P15: 80
A16: ЖБП 07 | C16: Информатика | D16: 3 | H16: =N16+P16+R16 -> 72 | M16: 2 | N16: 40 | O16: 2 | P16: 32
A17: ЖБП 08 | C17: Алғашқы әскери және технологиялық дайындық | D17: 3 | H17: =N17+P17+R17 -> 72 | M17: 2 | N17: 40 | O17: 2 | P17: 32
A18: ЖБП 09 | C18: Өзін-өзі тану | D18: 2 | H18: =N18+P18+R18 -> 48 | O18: 3 | P18: 48
A19: ЖБП 10 | C19: Дене тәрбиесі | D19: 5 | H19: =N19+P19+R19 -> 120 | M19: 2 | N19: 40 | O19: 5 | P19: 80
B20: Таңдау бойынша пәндер | H20: =N20+P20+R20 -> 0
B21: Тереңдетілген деңгей: | H21: =N21+P21+R21 -> 0
A22: ЖБП 11 | C22: Биология | D22: 6 | E22: 2 | H22: =N22+P22+R22 -> 144 | M22: 4 | N22: 80 | O22: 4 | P22: 64
A23: ЖБП 12 | C23: Дүниежүзілік тарих | D23: 6 | H23: =N23+P23+R23 -> 144 | M23: 4 | N23: 80 | O23: 4 | P23: 64
B24: Таңдау бойынша пәндер | H24: =N24+P24+R24 -> 0
B25: Стандарттық деңгей: | H25: =N25+P25+R25 -> 0
A26: ЖБП 13 | C26: Физика | D26: 3 | H26: =N26+P26+R26 -> 72 | M26: =M16 -> 2 | N26: =N16 -> 40 | O26: =O16 -> 2 | P26: 32
A27: ЖБП 14 | C27: Графика и проектирование | D27: 3 | H27: =N27+P27+R27 -> 72 | Q27: 9 | R27: 72
A28: БМ | B28: Базалық модульдер | E28: 5 | M28: =SUM(M10:M27) -> 36 | N28: =SUM(N10:N27) -> 720 | O28: =SUM(O10:O27) -> 36 | P28: =SUM(P10:P27) -> 576 | Q28: =SUM(Q10:Q27) -> 9 | R28: =SUM(R10:R27) -> 72
A29: БМ 01 | B29: Кәсіби лексиканы қолдану | C29: Кәсіби орыс тілі
C30: Кәсіби шет тілі
A31: БМ 02 | B31: Мемлекеттік тілдегі іскерлік құжаттарды құрастыру | C31: Мемлекеттік тілде іс жүргізу
A32: БМ 03 | B32: Салауатты өмір салтын сақтай отырып, дене сапаларын дамыту | C32: Дене тәрбиесі
C33: Анатомия, физиология және гигиена
A34: БМ 04 | B34: Әлеуметтік-экономикалық ғылымдар негіздерін қолдану | C34: Экономика негіздері
C35: Философия негіздері
C36: Әлеуметтану және саясаттану негіздері
C37: Мәденииеттану
C38: Құқық негіздері
A39: БМ 05 | B39: Цифрлық сауаттылықты дамыту | C39: Ақпараттық-коммуникациялық технологиялар
A40: КМ | B40: Кәсіптік модульдер
...

Sheet РУПинформ
A1: Оқу үрдісінің жоспары
A2: Индекс | B2: Циклдер (модульдердің) атауы | C2: Пәндердің атауы | D2: Кредит саны / Количество кредитов | E2: Бақылау нысаны | H2: Оқу уақытының көлемі (сағат)
E3: Семестр бойынша бөлінуі | H3: Барлығы | I3: оның ішінде | M3: Семестр бойынша бөлінуі
E4: Емтихан | F4: Сынақ (дифференциалды сынақ) | G4: Бақылау жұмысы | I4: теориялық оқыту | J4: зертханалық - практикалық жұмыстар | K4: курсытқ жұмыс/жоба | L4: Өндірістік оқыту және/ немесе кәсіптік (педагогикалық) практика | M4: 1 курс | Q4: 2 курс | U4: 3 курс | Y4: 4 курс
M5: 1 сем. | O5: 2 сем. | Q5: 3 сем. | S5: 4 сем. | U5: 5 сем. | W5: 6 сем. | Y5: 7 сем. | AA5: 8 сем
N6: 20 | P6: 16 | R6: 8
A7: 1 | B7: 2 | C7: 3 | E7: 4 | F7: 5 | H7: 8 | I7: 9 | J7: 10 | L7: 11 | M7: 12 | N7: 13 | O7: 14 | P7: 15 | Q7: 16 | R7: 17 | S7: 18 | T7: 19 | U7: 20 | V7: 21 | W7: 22 | X7: 23 | Y7: 24 | Z7: 25 | AA7: 26 | AB7: 27
A8: ЖБП 00 | B8: Жалпы білім беретін пәндер | D8: 57 | H8: 1368 | AC8: Оқытушы
B9: =[1]Лист1!$B$9 -> Міндетті пәндер
A10: ЖБП 01 | C10: Қазақ тілі | D10: 4 | E10: 2 | H10: =N10+P10+R10 -> 72 | M10: 2 | N10: 40 | O10: 2 | P10: 32
A11: ЖБП 02 | C11: Қазақ әдебиеті | D11: 4 | H11: =N11+P11+R11 -> 72 | M11: 2 | N11: 40 | O11: 2 | P11: 32
A12: ЖБП 03 | C12: Орыс тілі және әдебиеті | D12: 5 | E12: 2 | H12: =N12+P12+R12 -> 96 | M12: 4 | N12: 80 | O12: 1 | P12: 16
A13: ЖБП 04 | C13: Шетел тілі | D13: 4 | H13: =N13+P13+R13 -> 96 | M13: 4 | N13: 80 | O13: 1 | P13: 16
A14: ЖБП 05 | C14: Қазақстан тарихы | D14: 4 | E14: 2 | H14: =N14+P14+R14 -> 96 | M14: 4 | N14: 80 | O14: 1 | P14: 16
A15: ЖБП 06 | C15: Математика | D15: 5 | E15: 2 | H15: =N15+P15+R15 -> 192 | M15: 6 | N15: 120 | O15: 4 | P15: 64 | Q15: 1 | R15: 8
A16: ЖБП 07 | C16: Информатика | D16: 3 | H16: =N16+P16+R16 -> 72 | M16: 2 | N16: 40 | O16: 2 | P16: 32
A17: ЖБП 08 | C17: Алғашқы әскери және технологиялық дайындық | D17: 3 | H17: =N17+P17+R17 -> 96 | N17: 0 | O17: 6 | P17: 96
A18: ЖБП 09 | C18: Өзін-өзі тану | D18: 2 | H18: =N18+P18+R18 -> 48 | O18: 3 | P18: 48
A19: ЖБП 10 | C19: Дене тәрбиесі | D19: 5 | H19: =N19+P19+R19 -> 120 | M19: 2 | N19: 40 | O19: 5 | P19: 80
B20: Таңдау бойынша пәндер | H20: =N20+P20+R20 -> 0
B21: Тереңдетілген деңгей: | H21: =N21+P21+R21 -> 0
A22: ЖБП 11 | C22: Биология | D22: 6 | E22: 2 | H22: =N22+P22+R22 -> 144 | M22: 4 | N22: 80 | O22: 4 | P22: 64
A23: ЖБП 12 | C23: Физика | D23: 6 | H23: =N23+P23+R23 -> 144 | M23: 4 | N23: 80 | O23: 4 | P23: 64
B24: Таңдау бойынша пәндер | H24: =N24+P24+R24 -> 0
B25: Стандарттық деңгей: | H25: =N25+P25+R25 -> 0
A26: ЖБП 13 | C26: Дүниежүзі тарихы | D26: 3 | H26: =N26+P26+R26 -> 72 | M26: =M16 -> 2 | N26: =N16 -> 40 | O26: =O16 -> 2 | P26: 32
A27: ЖБП 14 | C27: Геграфия | D27: 3 | H27: =N27+P27+R27 -> 72 | Q27: 9 | R27: 72
A28: БМ | B28: Базалық модульдер | E28: 5 | M28: =SUM(M10:M27) -> 36 | N28: =SUM(N10:N27) -> 720 | O28: =SUM(O10:O27) -> 37 | P28: =SUM(P10:P27) -> 592 | Q28: =SUM(Q10:Q27) -> 10 | R28: =SUM(R10:R27) -> 80
A29: БМ 01 | B29: Кәсіби лексиканы қолдану | C29: Кәсіби орыс тілі
C30: Кәсіби шет тілі
A31: БМ 02 | B31: Мемлекеттік тілдегі іскерлік құжаттарды құрастыру | C31: Мемлекеттік тілде іс жүргізу
A32: БМ 03 | B32: Салауатты өмір салтын сақтай отырып, дене сапаларын дамыту | C32: Дене тәрбиесі
C33: Анатомия, физиология және гигиена
A34: БМ 04 | B34: Әлеуметтік-экономикалық ғылымдар негіздерін қолдану | C34: Экономика негіздері
C35: Философия негіздері
C36: Әлеуметтану және саясаттану негіздері
C37: Мәденииеттану
C38: Құқық негіздері
A39: БМ 05 | B39: Цифрлық сауаттылықты дамыту | C39: Ақпараттық-коммуникациялық технологиялар
A40: КМ | B40: Кәсіптік модульдер
...

Sheet РУП Банк ісі 
A1: Оқу үрдісінің жоспары
A2: Индекс | B2: Циклдер (модульдердің) атауы | C2: Пәндердің атауы | D2: Кредит саны / Количество кредитов | E2: Бақылау нысаны | H2: Оқу уақытының көлемі (сағат)
E3: Семестр бойынша бөлінуі | H3: Барлығы | I3: оның ішінде | M3: Семестр бойынша бөлінуі
E4: Емтихан | F4: Сынақ (дифференциалды сынақ) | G4: Бақылау жұмысы | I4: теориялық оқыту | J4: зертханалық - практикалық жұмыстар | K4: курсытқ жұмыс/жоба | L4: Өндірістік оқыту және/ немесе кәсіптік (педагогикалық) практика | M4: 1 курс | Q4: 2 курс | U4: 3 курс | Y4: 4 курс
M5: 1 сем. | O5: 2 сем. | Q5: 3 сем. | S5: 4 сем. | U5: 5 сем. | W5: 6 сем. | Y5: 7 сем. | AA5: 8 сем
N6: 20 | P6: 16 | R6: 8
A7: 1 | B7: 2 | C7: 3 | E7: 4 | F7: 5 | H7: 8 | I7: 9 | J7: 10 | L7: 11 | M7: 12 | N7: 13 | O7: 14 | P7: 15 | Q7: 16 | R7: 17 | S7: 18 | T7: 19 | U7: 20 | V7: 21 | W7: 22 | X7: 23 | Y7: 24 | Z7: 25 | AA7: 26 | AB7: 27
A8: ЖБП 00 | B8: Жалпы білім беретін пәндер | D8: 57 | H8: 1368 | AC8: Оқытушы
B9: =[1]Лист1!$B$9 -> Міндетті пәндер
A10: ЖБП 01 | C10: Қазақ тілі | D10: 4 | E10: 2 | H10: =N10+P10+R10 -> 96 | M10: 4 | N10: 80 | O10: 1 | P10: 16
A11: ЖБП 02 | C11: Қазақ әдебиеті | D11: 4 | H11: =N11+P11+R11 -> 96 | M11: 4 | N11: 80 | O11: 1 | P11: 16
A12: ЖБП 03 | C12: Орыс тілі және әдебиеті | D12: 5 | E12: 2 | H12: =N12+P12+R12 -> 120 | M12: 2 | N12: 40 | O12: 5 | P12: 80
A13: ЖБП 04 | C13: Шетел тілі | D13: 4 | H13: =N13+P13+R13 -> 96 | M13: 4 | N13: 80 | O13: 1 | P13: 16
A14: ЖБП 05 | C14: Қазақстан тарихы | D14: 4 | E14: 2 | H14: =N14+P14+R14 -> 96 | M14: 4 | N14: 80 | O14: 1 | P14: 16
A15: ЖБП 06 | C15: Математика | D15: 5 | E15: 2 | H15: =N15+P15+R15 -> 120 | M15: 2 | N15: 40 | O15: 5 | P15: 80
A16: ЖБП 07 | C16: Информатика | D16: 3 | H16: =N16+P16+R16 -> 72 | M16: 2 | N16: 40 | O16: 2 | P16: 32
A17: ЖБП 08 | C17: Алғашқы әскери және технологиялық дайындық | D17: 3 | H17: =N17+P17+R17 -> 72 | M17: 2 | N17: 40 | O17: 2 | P17: 32
A18: ЖБП 09 | C18: Өзін-өзі тану | D18: 2 | H18: =N18+P18+R18 -> 48 | O18: 3 | P18: 48
A19: ЖБП 10 | C19: Дене тәрбиесі | D19: 5 | H19: =N19+P19+R19 -> 120 | M19: 2 | N19: 40 | O19: 5 | P19: 80
B20: Таңдау бойынша пәндер | H20: =N20+P20+R20 -> 0
B21: Тереңдетілген деңгей: | H21: =N21+P21+R21 -> 0
A22: ЖБП 11 | C22: Биология | D22: 6 | E22: 2 | H22: =N22+P22+R22 -> 144 | M22: 4 | N22: 80 | O22: 4 | P22: 64
A23: ЖБП 12 | C23: Дүниежүзілік тарих | D23: 6 | H23: =N23+P23+R23 -> 144 | M23: 4 | N23: 80 | O23: 4 | P23: 64
B24: Таңдау бойынша пәндер | H24: =N24+P24+R24 -> 0
B25: Стандарттық деңгей: | H25: =N25+P25+R25 -> 0
A26: ЖБП 13 | C26: Физика | D26: 3 | H26: =N26+P26+R26 -> 72 | M26: =M16 -> 2 | N26: =N16 -> 40 | O26: =O16 -> 2 | P26: 32
A27: ЖБП 14 | C27: Графика и проектирование | D27: 3 | H27: =N27+P27+R27 -> 72 | Q27: 9 | R27: 72
A28: БМ | B28: Базалық модульдер | E28: 5 | M28: =SUM(M10:M27) -> 36 | N28: =SUM(N10:N27) -> 720 | O28: =SUM(O10:O27) -> 36 | P28: =SUM(P10:P27) -> 576 | Q28: =SUM(Q10:Q27) -> 9 | R28: =SUM(R10:R27) -> 72
A29: БМ 01 | B29: Кәсіби лексиканы қолдану | C29: Кәсіби орыс тілі
C30: Кәсіби шет тілі
A31: БМ 02 | B31: Мемлекеттік тілдегі іскерлік құжаттарды құрастыру | C31: Мемлекеттік тілде іс жүргізу
A32: БМ 03 | B32: Салауатты өмір салтын сақтай отырып, дене сапаларын дамыту | C32: Дене тәрбиесі
C33: Анатомия, физиология және гигиена
A34: БМ 04 | B34: Әлеуметтік-экономикалық ғылымдар негіздерін қолдану | C34: Экономика негіздері
C35: Философия негіздері
C36: Әлеуметтану және саясаттану негіздері
C37: Мәденииеттану
C38: Құқық негіздері
A39: БМ 05 | B39: Цифрлық сауаттылықты дамыту | C39: Ақпараттық-коммуникациялық технологиялар
A40: КМ | B40: Кәсіптік модульдер
...

Sheet титульный сиб
A3: Министерство науки и образования Республики Казахстан
A4: ТОО Экибстузский Колледж Инновационного Евразийского Университета
B7: КЕЛІСІЛДІ | V7: БЕКІТЕМІН
B8: председатель ИС, директор КГУ СОШ №18 | V8: Колледж Директоры
B9: г. Экибастуз | V9: ____________К.Каржасов
B10: ____________ Е.Қ. Зәкен | V10: "_______"_____________ 2021ж.
B11: "_______"_____________ 2021ж.
G14: РАБОЧИЙУЧЕБНЫЙ ПЛАН
G15: Техническое и профессиональное образование
G16: Код и наименование уровня: 06 Информационно-коммуникационные технологии
G17: 061 Информационно-коммуникационные технологии
G18: 06120100 - Системы информационной безопасности
G19: 4S06120202 - Техник информационной безопасности
G27: Форма бучения- очная
G28: На базе основного среднего образования
G29: срок обучения: 3г.10 месяцев

Sheet график
K5: График учебного процесса
B7: қыркүйек | F7: қазан | K7: қараша | O7: желтоқсан | S7: қаңтар | X7: ақпан | AB7: наурыз | AF7: сәуір | AK7: мамыр | AO7: маусым | AS7: шілде | AX7: тамыз
B8: 1 | C8: 2 | D8: 3 | E8: 4 | F8: 5 | G8: 6 | H8: 7 | I8: 8 | J8: 9 | K8: 10 | L8: 11 | M8: 12 | N8: 13 | O8: 14 | P8: 15 | Q8: 16 | R8: 17 | S8: 18 | T8: 19 | U8: 20 | V8: 21 | W8: 22 | X8: 23 | Y8: 24 | Z8: 25 | AA8: 26 | AB8: 27 | AC8: 28 | AD8: 29 | AE8: 30 | AF8: 31 | AG8: 32 | AH8: 33 | AI8: 34 | AJ8: 35 | AK8: 36 | AL8: 37 | AM8: 38 | AN8: 39 | AO8: 40 | AP8: 41 | AQ8: 42 | AR8: 43 | AS8: 44 | AT8: 45 | AU8: 46 | AV8: 47 | AW8: 48 | AX8: 49 | AY8: 50 | AZ8: 51 | BA8: 52
B9: 1 | C9: 8 | D9: 15 | E9: 22 | F9: 29 | G9: 6 | H9: 13 | I9: 20 | J9: 27 | K9: 3 | L9: 10 | M9: 17 | N9: 24 | O9: 1 | P9: 8 | Q9: 15 | R9: 22 | S9: 29 | T9: 5 | U9: 12 | V9: 19 | W9: 26 | X9: 2 | Y9: 9 | Z9: 16 | AA9: 23 | AB9: 2 | AC9: 9 | AD9: 16 | AE9: 23 | AF9: 30 | AG9: 6 | AH9: 13 | AI9: 20 | AJ9: 27 | AK9: 4 | AL9: 11 | AM9: 18 | AN9: 25 | AO9: 1 | AP9: 8 | AQ9: 15 | AR9: 22 | AS9: 29 | AT9: 6 | AU9: 13 | AV9: 20 | AW9: 27 | AX9: 3 | AY9: 10 | AZ9: 17 | BA9: 24
B10: 7 | C10: 14 | D10: 21 | E10: 28 | F10: 5 | G10: 12 | H10: 19 | I10: 26 | J10: 2 | K10: 9 | L10: 16 | M10: 23 | N10: 30 | O10: 7 | P10: 14 | Q10: 21 | R10: 28 | S10: 4 | T10: 11 | U10: 18 | V10: 25 | W10: 1 | X10: 8 | Y10: 15 | Z10: 22 | AA10: 1 | AB10: 8 | AC10: 15 | AD10: 22 | AE10: 29 | AF10: 5 | AG10: 12 | AH10: 19 | AI10: 26 | AJ10: 3 | AK10: 10 | AL10: 17 | AM10: 24 | AN10: 31 | AO10: 7 | AP10: 14 | AQ10: 21 | AR10: 28 | AS10: 5 | AT10: 12 | AU10: 19 | AV10: 26 | AW10: 2 | AX10: 9 | AY10: 16 | AZ10: 23 | BA10: 31
A11: I | U11: 20 | V11: К | W11: К | AM11: 16 | AN11: Лс | AO11: О | AP11: О | AQ11: ПА | AR11: ПА | AS11: К | AT11: К | AU11: К | AV11: К | AW11: К | AX11: К | AY11: К | AZ11: К | BA11: К
A12: IІ | I12: 8 | J12: K | K12: K | W12: 12 | X12: Р | Y12: Э | Z12: У | AA12: У | AB12: У | AC12: У | AD12: У | AE12: У | AF12: У | AG12: У | AH12: У | AI12: У | AJ12: У | AK12: У | AL12: У | AM12: У | AN12: У | AO12: У | AP12: У | AQ12: У | AR12: У | AS12: К | AT12: К | AU12: К | AV12: К | AW12: К | AX12: К | AY12: К | AZ12: К | BA12: К
A13: IІІ | M13: 12 | N13: К | O13: К | AA13: 12 | AB13: У | AC13: У | AD13: У | AE13: У | AF13: У | AG13: У | AH13: У | AI13: У | AJ13: У | AK13: У | AL13: У | AM13: У | AN13: У | AO13: У | AP13: У | AQ13: ПА | AR13: ПА
A14: IV | I14: 8 | J14: ПА | K14: К | L14: К | M14: У | N14: У | O14: У | P14: У | Q14: У | R14: У | S14: Р | T14: Р | U14: П | V14: П | W14: П | X14: П | Y14: П | Z14: П | AA14: П | AB14: П | AC14: Пд | AD14: Пд | AE14: Пд | AF14: Пд | AG14: Пд | AH14: Пд | AI14: Пд | AJ14: Пд | AK14: Д | AL14: Д | AM14: Д | AN14: Д | AO14: Д | AP14: Д | AQ14: ИА | AR14: ИА
D16: Теоретическое обучение | N16: Р | P16: Резерв | Z16: Д | AA16: Демалыс | AH16: О | AJ16: Өндірістік оқыту
B17: Лс | D17: Летние полевые сборы | N17: Э | P17: Промежуточная аттестация | Z17: Қа | AA17: Қорытынды аттестаттау | AH17: Өнд | AJ17: Өндірістік практикасы
V21: II Бюджет бойынша жиынтық көресткіш
AU22: КР | AV22: ЧАСЫ | AX22: НЕД
A23: Курс | E23: Теориялық оқыту | L23: Аралық аттестаттау | P23: Өндірістік оқыту/ Өндірістік практика | AA23: Қорытынды аттестаттау | AE23: Резерв | AH23: Демалыс | AK23: Летние полевые сборы | AN23: Оқу жылындағы барлық апта | AU23: 132 | AV23: 3168 | AX23: 88 | AY23: Т
E24: неделя | H24: час | J24: кредит | P24: оқу | V24: Өндірістік | AU24: 9 | AV24: 216 | AX24: 6 | AY24: ПА
A25: I | E25: 36 | H25: =E25*36 -> 1296 | J25: =H25/24 -> 54 | L25: 2 | P25: 2 | V25: 0 | AA25: 0 | AE25: 0 | AH25: 11 | AK25: 1 | AN25: =E25+L25+P25+V25+AA25+AE25+AH25+AK25 -> 52 | AU25: 96 | AV25: 2304 | AX25: 64 | AY25: ПРАКТИКА
A26: IІ | E26: 20 | H26: =E26*36 -> 720 | J26: =H26/24 -> 30 | L26: 1 | P26: 19 | V26: 0 | AA26: 0 | AE26: 1 | AH26: 11 | AK26: 0 | AN26: =E26+L26+P26+V26+AA26+AE26+AH26+AK26 -> 52 | AU26: 3 | AV26: 72 | AX26: 2 | AY26: ИА
A27: IІІ | E27: 24 | H27: =E27*36 -> 864 | J27: =H27/24 -> 36 | L27: 2 | P27: 15 | V27: 0 | AA27: 0 | AE27: 0 | AH27: 11 | AK27: 0 | AN27: =E27+L27+P27+V27+AA27+AE27+AH27+AK27 -> 52 | AU27: =AU23+AU24+AU25+AU26 -> 240 | AV27: =AV23+AV24+AV25+AV26 -> 5760 | AX27: =AX23+AX24+AX25+AX26 -> 160
A28: IV | E28: 8 | H28: =E28*36 -> 288 | J28: =H28/24 -> 12 | L28: 1 | P28: 6 | V28: 22 | AA28: 2 | AE28: 2 | AH28: 2 | AK28: 0 | AN28: =E28+L28+P28+V28+AA28+AE28+AH28+AK28 -> 43
A29: Всего | E29: =E25+E26+E27+E28 -> 88 | H29: =H25+H26+H27+H28 -> 3168 | J29: =J25+J26+J27+J28 -> 132 | L29: =L25+L26+L27+L28 -> 6 | P29: =P25+P26+P27+P28 -> 42 | V29: =V25+V26+V27+V28 -> 22 | AA29: =AA25+AA26+AA27+AA28 -> 2 | AE29: =AE25+AE26+AE27+AE28 -> 3 | AH29: =AH25+AH26+AH27 -> 33 | AK29: =AK25+AK26+AK27 -> 1 | AN29: =E29+L29+P29+V29+AA29+AE29+AH29+AK29 -> 197

Sheet ВЕРНО РУП база9 СИБ 21-22) 
A1: План учебного процесса
A2: Индекс | B2: Наименование модулей и видов учебной деятельности | C2: Наименование дисциплин | D2: Кредит саны / Количество кредитов | E2: Форма контроля | H2: обьем учебного времени
E3: по семестрам | H3: Всего | I3: в том числе | M3: Распределение по курсам и семестрам
E4: Экзамен | F4: дифференцированный зачет | G4: конртольные работы | I4: теоретические | J4: лаборатонро-практические | K4: Курсовой проект /работа | L4: Производственное обучение/ профессиональная практика | M4: 1 курс | Q4: 2 курс | U4: 3 курс | Y4: 4 курс
M5: 1 сем. | O5: 2 сем. | Q5: 3 сем. | S5: 4 сем. | U5: 5 сем. | W5: 6 сем. | Y5: 7 сем. | AA5: 8 сем
N6: 20 | P6: 16 | R6: 8 | T6: 12 | V6: 12 | X6: 12 | Z6: 8
A7: 1 | B7: 2 | C7: 3 | E7: 4 | F7: 5 | H7: 8 | I7: 9 | K7: 10 | L7: 11 | M7: 12 | N7: 13 | O7: 14 | P7: 15 | Q7: 16 | R7: 17 | S7: 18 | T7: 19 | U7: 20 | V7: 21 | W7: 22 | X7: 23 | Y7: 24 | Z7: 25 | AA7: 26 | AB7: 27
A8: ООД00 | B8: Модуль "Общеобразовательные дисциплины" | D8: =D10+D11+D12+D13+D14+D15+D16+D17+D18+D19+D22+D23+D25+D26+D27 -> 60 | E8: =E10+E11+E12+E13+E14+E15+E16+E17+E18+E19+E22+E23+E25+E26+E27 -> 10 | F8: =F10+F11+F12+F13+F14+F15+F16+F17+F18+F19+F22+F23+F25+F26+F27 -> 10 | G8: =G10+G11+G12+G13+G14+G15+G16+G17+G18+G19+G22+G23+G25+G26+G27 -> 5 | H8: =H10+H11+H12+H13+H14+H15+H16+H17+H18+H19+H22+H23+H25+H26+H27 -> 1368 | I8: =I10+I11+I12+I13+I14+I15+I16+I17+I18+I19+I22+I23+I25+I26+I27 -> 692 | J8: =J10+J11+J12+J13+J14+J15+J16+J17+J18+J19+J22+J23+J25+J26+J27 -> 676 | K8: =K10+K11+K12+K13+K14+K15+K16+K17+K18+K19+K22+K23+K25+K26+K27 -> 0 | ... AB8: =AB10+AB11+AB12+AB13+AB14+AB15+AB16+AB17+AB18+AB19+AB22+AB23+AB25+AB26+AB27 -> 0
B9: Обьязательные предметы
A10: ООД01 | C10: Русский язык | D10: 3 | E10: 2 | F10: 1 | G10: 1 | H10: =N10+P10+R10 -> 72 | I10: =H10-J10 -> 17 | J10: 55 | M10: 2 | N10: 40 | O10: 2 | P10: 32
A11: ООД02 | C11: Русская литература | D11: 3 | F11: 1.2 | G11: 1 | H11: =N11+P11+R11 -> 72 | I11: =H11-J11 -> 38 | J11: 34 | M11: 2 | N11: 40 | O11: 2 | P11: 32
A12: ООД03 | C12: Казахский язык и литература | D12: 4 | E12: 2 | F12: 1 | G12: 1 | H12: =N12+P12+R12 -> 96 | I12: =H12-J12 -> 23 | J12: 73 | M12: 4 | N12: 80 | O12: 1 | P12: 16
A13: ООД04 | C13: Иностранный язык | D13: 4 | F13: 1.2 | G13: 1 | H13: =N13+P13+R13 -> 96 | I13: =H13-J13 -> 16 | J13: 80 | M13: 4 | N13: =N12 -> 80 | O13: =O12 -> 1 | P13: 16
A14: ООД05 | C14: История Казахстана | D14: 4 | E14: 2 | H14: =N14+P14+R14 -> 96 | I14: =H14-J14 -> 62 | J14: 34 | M14: 4 | N14: 80 | O14: 1 | P14: 16
A15: ООД06 | C15: Математика | D15: 8 | E15: 2 | F15: 1 | G15: 1 | H15: =N15+P15+R15 -> 192 | I15: =H15-J15 -> 112 | J15: 80 | M15: 6 | N15: 120 | O15: 4 | P15: 64 | Q15: 1 | R15: 8
A16: ООД07 | C16: Информатика | D16: 3 | F16: 1.2 | H16: =N16+P16+R16 -> 72 | I16: =H16-J16 -> 42 | J16: 30 | M16: 2 | N16: 40 | O16: 2 | P16: 32
A17: ООД08 | C17: Начальная военная и технологическая подготовка | D17: 4 | F17: 1.2 | H17: =N17+P17+R17 -> 96 | I17: =H17-J17 -> 66 | J17: 30 | O17: 6 | P17: 96
A18: ООД09 | C18: Самопознание | D18: 2 | H18: =N18+P18+R18 -> 48 | I18: =H18-J18 -> 12 | J18: 36 | O18: 3 | P18: 48
A19: ООД10 | C19: Физическая культура | D19: 5 | F19: 1.2 | H19: =N19+P19+R19 -> 120 | I19: =H19-J19 -> 0 | J19: 120 | M19: 2 | N19: 40 | O19: 5 | P19: 80
B20: Предметы по выбору
B21: Углубленный уровень :
A22: ООД11 | C22: Химия | D22: 6 | H22: =N22+P22+R22 -> 144 | I22: =H22-J22 -> 122 | J22: 22 | M22: 4 | N22: 80 | O22: 3 | P22: 48 | Q22: 2 | R22: 16
A23: ООД12 | C23: Физика | D23: 6 | E23: 2 | F23: 1 | H23: =N23+P23+R23 -> 144 | I23: =H23-J23 -> 118 | J23: 26 | M23: 4 | N23: 80 | O23: 4 | P23: 64
B24: Стандартный уровень:
A25: ООД13 | C25: Всемирная история | D25: 3 | H25: =N25+P25+R25 -> 72 | I25: =H25-J25 -> 32 | J25: 40 | M25: =M16 -> 2 | N25: 40 | O25: =O16 -> 2 | P25: 32
A26: ООД14 | C26: География | D26: 2 | H26: =N26+P26+R26 -> 48 | I26: =H26-J26 -> 32 | J26: 16 | Q26: 6 | R26: 48
C27: Ознакомительная практика | D27: 3 | L27: 72
A28: БМ | B28: Базовые модули | D28: =D29+D30+D31+D32+D33+D34+D35+D36+D37+D38+D39 -> 19 | E28: =E29+E30+E31+E32+E33+E34+E35+E36+E37+E38+E39 -> 0 | F28: =F29+F30+F31+F32+F33+F34+F35+F36+F37+F38+F39 -> 44 | G28: =G29+G30+G31+G32+G33+G34+G35+G36+G37+G38+G39 -> 7 | H28: =H29+H30+H31+H32+H33+H34+H35+H36+H37+H38+H39 -> 456 | I28: =I29+I30+I31+I32+I33+I34+I35+I36+I37+I38+I39 -> 162 | J28: =J29+J30+J31+J32+J33+J34+J35+J36+J37+J38+J39 -> 294 | K28: =K29+K30+K31+K32+K33+K34+K35+K36+K37+K38+K39 -> 0 | ... AB28: =AB29+AB30+AB31+AB32+AB33+AB34+AB35+AB36+AB37+AB38+AB39 -> 0
A29: БМ 01 | B29: Развитие и совершенствование физических качеств | C29: РО 1.1. Укреплять здоровье и соблюдать принципы здорового образа жизни. | D29: =H29/24 -> 3.5 | G29: 1 | H29: =N29+P29+R29+T29+V29+X29+Z29+AB29 -> 84 | I29: =H29-J29 -> 0 | J29: 84 | Q29: 3 | R29: 24 | S29: 1 | T29: 12 | U29: 1 | V29: 12 | W29: 1 | X29: 12 | Y29: 3 | Z29: 24
A30: БМ 01 | B30: Развитие и совершенствование физических качеств | C30: РО 1.2. Совершенствовать физические качества и психофизиологические способности | D30: =H30/24 -> 3.5 | F30: 7 | G30: 1 | H30: =N30+P30+R30+T30+V30+X30+Z30+AB30 -> 84 | I30: =H30-J30 -> 0 | J30: 84 | Q30: 3 | R30: 24 | S30: 1 | T30: 12 | U30: 1 | V30: 12 | W30: 1 | X30: 12 | Y30: 3 | Z30: 24
A31: БМ 02 | B31: Владение стандартами делопроизводства и современными информационными технологиями | C31: РО 2.1. Владеть основами информационно-коммуникационных технологий. | D31: =H31/24 -> 2 | G31: 1 | H31: =N31+P31+R31+T31+V31+X31+Z31+AB31 -> 48 | I31: =H31-J31 -> 24 | J31: 24 | S31: 4 | T31: 48
C32: РО 2.2.Составлять на государственном языке деловые документы | D32: =H32/24 -> 3 | F32: 7 | G32: 1 | H32: =N32+P32+R32+T32+V32+X32+Z32+AB32 -> 72 | I32: =H32-J32 -> 0 | J32: 72 | W32: 2 | X32: 24 | Y32: 6 | Z32: 48
A33: БМ 03 | B33: Применение базовых знаний экономики и основ предпринимательства | C33: РО 3.1. Владеть основными вопросами в области экономики | D33: =H33/24 -> 1 | F33: 6 | H33: =N33+P33+R33+T33+V33+X33+Z33+AB33 -> 24 | I33: =H33-J33 -> 24 | J33: 0 | W33: 2 | X33: 24
C34: РО 3.2. Владеть законодательными основами организации и ведения предпринимательской деятельности в Республике Казахстан | D34: =H34/24 -> 1 | F34: 6 | H34: =N34+P34+R34+T34+V34+X34+Z34+AB34 -> 24 | I34: =H34-J34 -> 16 | J34: 8 | W34: 2 | X34: 24
C35: РО 3.3. Соблюдать этику делового общения | D35: =H35/24 -> 1 | H35: =N35+P35+R35+T35+V35+X35+Z35+AB35 -> 24 | I35: =H35-J35 -> 2 | J35: 22 | Y35: 3 | Z35: 24
A36: БМ 04 | B36: Применение основ социальных наук для социализации и адаптации в обществе и трудовом коллективе | C36: РО 4.1. Понимать морально-нравственные ценности и нормы | D36: =H36/24 -> 1 | H36: =N36+P36+R36+T36+V36+X36+Z36+AB36 -> 24 | I36: =H36-J36 -> 24 | J36: 0 | Y36: 3 | Z36: 24
C37: РО 4.2. Понимать роль и место культуры народов Республики Казахстан в мировой цивилизации | D37: =H37/24 -> 1 | F37: 7 | G37: 1 | H37: =N37+P37+R37+T37+V37+X37+Z37+AB37 -> 24 | I37: =H37-J37 -> 24 | J37: 0 | Y37: 3 | Z37: 24
C38: РО 4.3. Владеть сведениями об основных отраслях права | D38: =H38/24 -> 1 | F38: 5 | G38: 1 | H38: =N38+P38+R38+T38+V38+X38+Z38+AB38 -> 24 | I38: =H38-J38 -> 24 | J38: 0 | U38: 2 | V38: 24
C39: РО 4.4. Владеть основными понятиями социологии и политологии | D39: =H39/24 -> 1 | F39: 6 | G39: 1 | H39: =N39+P39+R39+T39+V39+X39+Z39+AB39 -> 24 | I39: =H39-J39 -> 24 | J39: 0 | W39: 2 | X39: 24
B40: Квалификация «4S06120202 – Техник по информационной безопасности»
...
